BEGIN:VCALENDAR
VERSION:2.0
PRODID:-//The Flostate - ECPv6.15.20//NONSGML v1.0//EN
CALSCALE:GREGORIAN
METHOD:PUBLISH
X-WR-CALNAME:The Flostate
X-ORIGINAL-URL:https://theflostate.com
X-WR-CALDESC:Events for The Flostate
REFRESH-INTERVAL;VALUE=DURATION:PT1H
X-Robots-Tag:noindex
X-PUBLISHED-TTL:PT1H
BEGIN:VTIMEZONE
TZID:America/Chicago
BEGIN:DAYLIGHT
TZOFFSETFROM:-0600
TZOFFSETTO:-0500
TZNAME:CDT
DTSTART:20230312T080000
END:DAYLIGHT
BEGIN:STANDARD
TZOFFSETFROM:-0500
TZOFFSETTO:-0600
TZNAME:CST
DTSTART:20231105T070000
END:STANDARD
BEGIN:DAYLIGHT
TZOFFSETFROM:-0600
TZOFFSETTO:-0500
TZNAME:CDT
DTSTART:20240310T080000
END:DAYLIGHT
BEGIN:STANDARD
TZOFFSETFROM:-0500
TZOFFSETTO:-0600
TZNAME:CST
DTSTART:20241103T070000
END:STANDARD
BEGIN:DAYLIGHT
TZOFFSETFROM:-0600
TZOFFSETTO:-0500
TZNAME:CDT
DTSTART:20250309T080000
END:DAYLIGHT
BEGIN:STANDARD
TZOFFSETFROM:-0500
TZOFFSETTO:-0600
TZNAME:CST
DTSTART:20251102T070000
END:STANDARD
END:VTIMEZONE
BEGIN:VEVENT
DTSTART;TZID=America/Chicago:20240713T093000
DTEND;TZID=America/Chicago:20240713T103000
DTSTAMP:20260425T123245
CREATED:20240514T144707Z
LAST-MODIFIED:20240514T144707Z
UID:775-1720863000-1720866600@theflostate.com
SUMMARY:Yoga HIIT at Crisp & Green
DESCRIPTION:Join us for an exciting in-person outdoor fitness event at Crisp & Green – Woodbury! Get ready to sweat\, laugh\, and feel the burn with Flostate Fitness. This event is all about embracing a healthy lifestyle while having a blast. Whether you’re a fitness enthusiast or just starting your wellness journey\, this event is perfect for you. We’ll guide you through a high-energy Yoga HIIT workout\, leaving you feeling empowered and motivated. Don’t miss out on this opportunity to connect with like-minded individuals and take your fitness to the next level. See you there! Bring your own mat and water bottle.\n\nFREE EVENT. Registration Appreciated. Sign up here
URL:https://theflostate.com/event/yoga-hiit-at-crisp-green/
LOCATION:Crisp & Green\, 7030 Valley Creek Plaza\, Woodbury\, MN\, 55125\, United States
ATTACH;FMTTYPE=image/jpeg:https://theflostate.com/wp-content/uploads/2024/05/Yoga-HIIT-at-Crisp-Green.jpg
ORGANIZER;CN="Flostate":MAILTO:info@theflostate.com
END:VEVENT
END:VCALENDAR